Workbook
Name CONGLAP: "Rectangle 175"
Name MaTS: Bia!$K$10
Name NganhChon: CODE!$L$2:$L$37
Name NganhCQ: 'PL 2'!$B$13:$J$18
Name NganhList: CODE!$L$2:$M$37
Name NganhLT_VLVH: 'PL 2'!$B$30:$J$35
Name NganhLTCQ: 'PL 2'!$B$21:$J$26
Name PL01_1_01: 'PL 1.1'!$C$5:$C$10
Name PL01_1_02: 'PL 1.1'!$D$5:$D$10
Name PL01_1_03: 'PL 1.1'!$E$5:$E$10
Name PL01_1_04: 'PL 1.1'!$F$5:$F$10
Name PL01_1_05: 'PL 1.1'!$G$5:$G$10
Name PL01_1_06: 'PL 1.1'!$H$5:$H$10
Name PL01_1_07: 'PL 1.1'!$I$5:$I$10
Name PL01_2_01: 'PL 1.2'!$C$5:$C$10
Name PL01_2_02: 'PL 1.2'!$D$5:$D$10
Name PL01_2_03: 'PL 1.2'!$E$5:$E$10
Name PL01_2_04: 'PL 1.2'!$F$5:$F$10
Name PL01_2_05: 'PL 1.2'!$G$5:$G$10
Name PL01_2_06: 'PL 1.2'!$H$5:$H$10
Name PL01_2_07: 'PL 1.2'!$I$5:$I$10
Name PL01_3_01: 'PL 1.3'!$D$4:$H$5
Name PL01_3_02: 'PL 1.3'!$D$5:$H$6
Name PL01_3_03: 'PL 1.3'!$D$6:$H$7
Name PL01_3_04: 'PL 1.3'!$D$7:$H$8
Name PL01_3_05: 'PL 1.3'!$D$8:$H$9
Name PL01_3_06: 'PL 1.3'!$D$9:$H$10
Name PL01_3_07: 'PL 1.3'!$D$10:$H$11
Name PL01_4_01: 'PL 1.4'!$I$4:$N$5
Name PL01_5_01: 'PL 1.5'!$K$4:$K$7
Name PL02_01: Sheet4!$A$1:$A$20
Name PL02_02: Sheet4!$B$1:$B$20
Name PL02_03: Sheet4!$C$1:$C$20
Name PL02_04: Sheet4!$D$1:$D$20
Name PL02_05: Sheet4!$E$1:$E$20
Name PL02_06: Sheet4!$F$1:$F$20
Name PL02_07: Sheet4!$G$1:$G$20
Name TenTruong: Bia!$C$10
Name THONG_TIN: CODE!$F$1:$G$5
Name TRUONG_CHON: CODE!$A$2:$A$203
Name TRUONG_LIST: CODE!$A$2:$B$203

Sheet Bia
B1: SỞ GIÁO DỤC VÀ ĐÀO TẠO THÀNH PHỐ HỒ CHÍ MINH
B6: ĐĂNG KÝ CHỈ TIÊU TUYỂN SINH
F7: Năm học:
B10: Đơn vị báo cáo: | I10: Mã tuyển sinh:
B11: Địa chỉ:
B12: Cơ quan chủ quản :
B13: Họ và tên hiệu trưởng:.................................................................. | G13: giới tính: Nam nữ | N13: FALSE | P13: FALSE
B14: Điện thoại liên hệ Hiệu trưởng:................................Fax:...................Email:.....................Website...............................................
B15: Họ và tên cán bộ thống kê tổng hợp:
B16: Điện thoại liên hệ cán bộ đầu mối:................................Fax:...................Email:.....................Website...............................................
B17: Loại hình trường: Công lập Dân lập Tư thục | N17: TRUE | O17: FALSE | P17: FALSE
B18: Đơn vị nhận: PHÒNG KẾ HOẠCH - TÀI CHÍNH, SỞ GIÁO DỤC VÀ ĐÀO TẠO
B19: Bộ/ngành chủ quản (đơn vị trường trực thuộc)
B21: Thời gian nhận báo cáo: ngày 31 tháng 12 hàng năm
B24: Sở Giáo dục và Đào tạo, 66-68 Lê Thánh Tôn, quận 1, Thành phố Hồ Chí Minh.

Sheet PL 1.1
A1: =TenTruong -> 0
A3: 1.1. Quy mô đào tạo hệ chính quy đến ngày 31/12/2016 (sinh viên, học sinh).
A4: STT | B4: Loại chí tiêu | C4: Khối ngành đào tạo
C5: Khối ngành I | D5: Khối ngành II | E5: Khối ngành III | F5: Khối ngành IV | G5: Khối ngành V | H5: Khối ngành VI | I5: Khối ngành VII
A6: 1 | B6: Cao đẳng | G6: 5171
A7: 1.1 | B7: Chính quy | G7: 5123
A8: 1.2 | B8: Liên thông CQ | G8: 48
A9: 2 | B9: Trung cấp | G9: 891
A10: 4.1 | B10: Chính quy | G10: 891

Sheet PL 1.2
A1: =TenTruong -> 0
A3: 1.2. Dự kiến sinh viên tốt nghiệp năm 2017 (sinh viên, học sinh).
A4: STT | B4: Loại chí tiêu | C4: Khối ngành đào tạo
C5: Khối ngành I | D5: Khối ngành II | E5: Khối ngành III | F5: Khối ngành IV | G5: Khối ngành V | H5: Khối ngành VI | I5: Khối ngành VII
A6: 1 | B6: Cao đẳng | G6: 1047
A7: 1.1 | B7: Chính quy | G7: 999
A8: 1.2 | B8: Liên thông CQ | G8: 48
A9: 2 | B9: Trung cấp | G9: 417
A10: 2.1 | B10: Chính quy | G10: 417

Sheet PL 1.3
A1: =TenTruong -> 0
A3: 1.3. Giảng viên cơ hữu theo khối ngành đến ngày 31/12/2016 (Người)
A4: STT | B4: Khối ngành | D4: Giáo sư | E4: Phó Giáo sư | F4: Tiến sĩ | G4: Thạc sĩ | H4: Đại học
A5: 1 | B5: Khối ngành I
A6: 2 | B6: Khối ngành II
A7: 3 | B7: Khối ngành III
A8: 4 | B8: Khối ngành IV
A9: 5 | B9: Khối ngành V
A10: 6 | B10: Khối ngành VI
A11: 7 | B11: Khối ngành VII
B12: Tổng số | D12: =SUM(D5:D11) -> 0 | E12: =SUM(E5:E11) -> 0 | F12: =SUM(F5:F11) -> 0 | G12: =SUM(G5:G11) -> 0 | H12: =SUM(H5:H11) -> 0

Sheet PL 1.4
A1: =TenTruong -> 0
A3: 1.4. Giảng viên cơ hữu các môn học chung đến ngày 31/12/2016 (Người)
A4: Giáo sư | B4: Phó Giáo sư | C4: Tiến sĩ | D4: Thạc sĩ | E4: Đại học | F4: Tổng giảng viên quy đổi
F5: =A5*5 + B5*3 +C5*2 + D5 + E5*0.5 -> 0 | I5: =A5 -> 0 | J5: =B5 -> 0 | K5: =C5 -> 0 | L5: =D5 -> 0 | M5: =E5 -> 0 | N5: =F5 -> 0

Sheet PL 1.5
A1: =TenTruong -> 0
A3: 1.5. Cơ sở vật chất đến ngày 31/12/2016
A4: Hạng mục | H4: Diện tích sàn xây dựng (m2)
A5: 1. Hội trường, giảng đường, phòng học các loại | H5: 6337 | K5: =H5 -> 6337
A6: 2. Thư viện, trung tâm học liệu | H6: 608 | K6: =H6 -> 608
A7: 3. Phòng thí nghiệm, phòng thực hành, nhà tập đa năng, xưởng thực tập | H7: 7426 | K7: =H7 -> 7426
F9: HiỆU TRƯỞNG
F15: Phạm Hữu Lộc

Sheet PL 2
A1: =Bia!C12 -> 0
C2: Phụ lục 2
A3: ĐĂNG KÝ CHỈ TIÊU TUYỂN SINH NĂM 2017
A5: TT | C5: Chỉ tiêu | D5: Khối ngành
D6: Khối ngành I | E6: Khối ngành II | F6: Khối ngành III | G6: Khối ngành IV | H6: Khối ngành V | I6: Khối ngành VI | J6: Khối ngành VII
A7: 1 | C7: Sau đại học
A8: 1.1 | C8: Tiến sĩ
A9: 1.2 | C9: Thạc sĩ
A10: 2 | C10: Đại học
A11: 2.1 | C11: Chính quy
C12: Trong đó các ngành đào tạo theo khối ngành I
B13: MaNganh | C13: TenNganh
B14: =IF(ISNA( VLOOKUP(C14,NganhList,2,FALSE)),"",VLOOKUP(C14,NganhList,2,FALSE))
B15: =IF(ISNA( VLOOKUP(C15,NganhList,2,FALSE)),"",VLOOKUP(C15,NganhList,2,FALSE))
B16: =IF(ISNA( VLOOKUP(C16,NganhList,2,FALSE)),"",VLOOKUP(C16,NganhList,2,FALSE))
B17: =IF(ISNA( VLOOKUP(C17,NganhList,2,FALSE)),"",VLOOKUP(C17,NganhList,2,FALSE))
B18: =IF(ISNA( VLOOKUP(C18,NganhList,2,FALSE)),"",VLOOKUP(C18,NganhList,2,FALSE))
A19: 2.2 | C19: Liên thông CQ
B20: MaNganh | C20: Trong đó các ngành đào tạo theo khối ngành I
B21: MaNganh | C21: TenNganh
B22: =IF(ISNA( VLOOKUP(C22,NganhList,2,FALSE)),"",VLOOKUP(C22,NganhList,2,FALSE))
B23: =IF(ISNA( VLOOKUP(C23,NganhList,2,FALSE)),"",VLOOKUP(C23,NganhList,2,FALSE))
B24: =IF(ISNA( VLOOKUP(C24,NganhList,2,FALSE)),"",VLOOKUP(C24,NganhList,2,FALSE))
B25: =IF(ISNA( VLOOKUP(C25,NganhList,2,FALSE)),"",VLOOKUP(C25,NganhList,2,FALSE))
B26: =IF(ISNA( VLOOKUP(C26,NganhList,2,FALSE)),"",VLOOKUP(C26,NganhList,2,FALSE))
B27: =IF(ISNA( VLOOKUP(C27,NganhList,2,FALSE)),"",VLOOKUP(C27,NganhList,2,FALSE))
A28: 2.3 | B28: MaNganh | C28: Bằng 2 CQ
C29: Trong đó các ngành đào tạo theo khối ngành I
B30: MaNganh | C30: TenNganh
B31: =IF(ISNA( VLOOKUP(C31,NganhList,2,FALSE)),"",VLOOKUP(C31,NganhList,2,FALSE))
B32: =IF(ISNA( VLOOKUP(C32,NganhList,2,FALSE)),"",VLOOKUP(C32,NganhList,2,FALSE))
B33: =IF(ISNA( VLOOKUP(C33,NganhList,2,FALSE)),"",VLOOKUP(C33,NganhList,2,FALSE))
B34: =IF(ISNA( VLOOKUP(C34,NganhList,2,FALSE)),"",VLOOKUP(C34,NganhList,2,FALSE))
B35: =IF(ISNA( VLOOKUP(C35,NganhList,2,FALSE)),"",VLOOKUP(C35,NganhList,2,FALSE))
B36: =IF(ISNA( VLOOKUP(C36,NganhList,2,FALSE)),"",VLOOKUP(C36,NganhList,2,FALSE))
A37: 2.4 | C37: Liên thông VLVH
A38: 2.5 | C38: Bằng 2 VLVH
A39: 2.6 | C39: VLVH
A40: 2.7 | C40: Từ xa
A41: 3 | C41: Cao đẳng | H41: 3500 | J41: 200
...

Sheet Sheet4
A1: Khối ngành I | B1: Khối ngành II | C1: Khối ngành III | D1: Khối ngành IV | E1: Khối ngành V | F1: Khối ngành VI | G1: Khối ngành VII
A2: ='PL 2'!D7 -> 0 | B2: ='PL 2'!E7 -> 0 | C2: ='PL 2'!F7 -> 0 | D2: ='PL 2'!G7 -> 0 | E2: ='PL 2'!H7 -> 0 | F2: ='PL 2'!I7 -> 0 | G2: ='PL 2'!J7 -> 0 | H2: Sau đại học
A3: ='PL 2'!D8 -> 0 | B3: ='PL 2'!E8 -> 0 | C3: ='PL 2'!F8 -> 0 | D3: ='PL 2'!G8 -> 0 | E3: ='PL 2'!H8 -> 0 | F3: ='PL 2'!I8 -> 0 | G3: ='PL 2'!J8 -> 0 | H3: Tiến sĩ
A4: ='PL 2'!D9 -> 0 | B4: ='PL 2'!E9 -> 0 | C4: ='PL 2'!F9 -> 0 | D4: ='PL 2'!G9 -> 0 | E4: ='PL 2'!H9 -> 0 | F4: ='PL 2'!I9 -> 0 | G4: ='PL 2'!J9 -> 0 | H4: Thạc sĩ
A5: ='PL 2'!D10 -> 0 | B5: ='PL 2'!E10 -> 0 | C5: ='PL 2'!F10 -> 0 | D5: ='PL 2'!G10 -> 0 | E5: ='PL 2'!H10 -> 0 | F5: ='PL 2'!I10 -> 0 | G5: ='PL 2'!J10 -> 0 | H5: Đại học
A6: ='PL 2'!D11 -> 0 | B6: ='PL 2'!E11 -> 0 | C6: ='PL 2'!F11 -> 0 | D6: ='PL 2'!G11 -> 0 | E6: ='PL 2'!H11 -> 0 | F6: ='PL 2'!I11 -> 0 | G6: ='PL 2'!J11 -> 0 | H6: Chính quy
A7: ='PL 2'!D19 -> 0 | B7: ='PL 2'!E19 -> 0 | C7: ='PL 2'!F19 -> 0 | D7: ='PL 2'!G19 -> 0 | E7: ='PL 2'!H19 -> 0 | F7: ='PL 2'!I19 -> 0 | G7: ='PL 2'!J19 -> 0 | H7: Liên thông CQ
A8: ='PL 2'!D28 -> 0 | B8: ='PL 2'!E28 -> 0 | C8: ='PL 2'!F28 -> 0 | D8: ='PL 2'!G28 -> 0 | E8: ='PL 2'!H28 -> 0 | F8: ='PL 2'!I28 -> 0 | G8: ='PL 2'!J28 -> 0 | H8: Bằng 2 CQ
A9: ='PL 2'!D37 -> 0 | B9: ='PL 2'!E37 -> 0 | C9: ='PL 2'!F37 -> 0 | D9: ='PL 2'!G37 -> 0 | E9: ='PL 2'!H37 -> 0 | F9: ='PL 2'!I37 -> 0 | G9: ='PL 2'!J37 -> 0 | H9: Liên thông VLVH
A10: ='PL 2'!D38 -> 0 | B10: ='PL 2'!E38 -> 0 | C10: ='PL 2'!F38 -> 0 | D10: ='PL 2'!G38 -> 0 | E10: ='PL 2'!H38 -> 0 | F10: ='PL 2'!I38 -> 0 | G10: ='PL 2'!J38 -> 0 | H10: Bằng 2 VLVH
A11: ='PL 2'!D39 -> 0 | B11: ='PL 2'!E39 -> 0 | C11: ='PL 2'!F39 -> 0 | D11: ='PL 2'!G39 -> 0 | E11: ='PL 2'!H39 -> 0 | F11: ='PL 2'!I39 -> 0 | G11: ='PL 2'!J39 -> 0 | H11: VLVH
A12: ='PL 2'!D40 -> 0 | B12: ='PL 2'!E40 -> 0 | C12: ='PL 2'!F40 -> 0 | D12: ='PL 2'!G40 -> 0 | E12: ='PL 2'!H40 -> 0 | F12: ='PL 2'!I40 -> 0 | G12: ='PL 2'!J40 -> 0 | H12: Từ xa
A13: ='PL 2'!D41 -> 0 | B13: ='PL 2'!E41 -> 0 | C13: ='PL 2'!F41 -> 0 | D13: ='PL 2'!G41 -> 0 | E13: ='PL 2'!H41 -> 3500 | F13: ='PL 2'!I41 -> 0 | G13: ='PL 2'!J41 -> 200 | H13: Cao đẳng
A14: ='PL 2'!D42 -> 0 | B14: ='PL 2'!E42 -> 0 | C14: ='PL 2'!F42 -> 0 | D14: ='PL 2'!G42 -> 0 | E14: ='PL 2'!H42 -> 3300 | F14: ='PL 2'!I42 -> 0 | G14: ='PL 2'!J42 -> 200 | H14: Chính quy
A15: ='PL 2'!D43 -> 0 | B15: ='PL 2'!E43 -> 0 | C15: ='PL 2'!F43 -> 0 | D15: ='PL 2'!G43 -> 0 | E15: ='PL 2'!H43 -> 200 | F15: ='PL 2'!I43 -> 0 | G15: ='PL 2'!J43 -> 0 | H15: Liên thông CQ
A16: ='PL 2'!D44 -> 0 | B16: ='PL 2'!E44 -> 0 | C16: ='PL 2'!F44 -> 0 | D16: ='PL 2'!G44 -> 0 | E16: ='PL 2'!H44 -> 0 | F16: ='PL 2'!I44 -> 0 | G16: ='PL 2'!J44 -> 0 | H16: Liên thông VLVH
A17: ='PL 2'!D45 -> 0 | B17: ='PL 2'!E45 -> 0 | C17: ='PL 2'!F45 -> 0 | D17: ='PL 2'!G45 -> 0 | E17: ='PL 2'!H45 -> 0 | F17: ='PL 2'!I45 -> 0 | G17: ='PL 2'!J45 -> 0 | H17: VLVH
A18: ='PL 2'!D46 -> 0 | B18: ='PL 2'!E46 -> 0 | C18: ='PL 2'!F46 -> 0 | D18: ='PL 2'!G46 -> 0 | E18: ='PL 2'!H46 -> 800 | F18: ='PL 2'!I46 -> 0 | G18: ='PL 2'!J46 -> 0 | H18: Trung cấp
A19: ='PL 2'!D47 -> 0 | B19: ='PL 2'!E47 -> 0 | C19: ='PL 2'!F47 -> 0 | D19: ='PL 2'!G47 -> 0 | E19: ='PL 2'!H47 -> 800 | F19: ='PL 2'!I47 -> 0 | G19: ='PL 2'!J47 -> 0 | H19: Chính quy
A20: ='PL 2'!D48 -> 0 | B20: ='PL 2'!E48 -> 0 | C20: ='PL 2'!F48 -> 0 | D20: ='PL 2'!G48 -> 0 | E20: ='PL 2'!H48 -> 0 | F20: ='PL 2'!I48 -> 0 | G20: ='PL 2'!J48 -> 0 | H20: VLVH

Sheet CODE
F1: Cấu hình | L1: TenNganh | M1: MaNganh
A2: 1. MIỀN NÚI PHÍA BẮC | B2: MaTruong | F2: ma_truong | G2: =VLOOKUP(TenTruong,TRUONG_LIST,2,FALSE) -> #N/A | L2: Giáo dục học | M2: 52140101
A3: ĐẠI HỌC THÁI NGUYÊN | B3: ĐHTN | F3: CL | G3: =IF(Bia!N17,"1","2") -> 1 | L3: Quản lý giáo dục | M3: 52140114
A4: TRƯỜNG ĐẠI HỌC CÔNG NGHIỆP QUẢNG NINH | B4: DDM | F4: CapHoc | G4: 1 | L4: Giáo dục Mầm non | M4: 52140201
A5: TRƯỜNG ĐẠI HỌC CÔNG NGHIỆP VIỆT TRÌ | B5: VUI | F5: MaTS | G5: =MaTS -> 0 | L5: Giáo dục Tiểu học | M5: 52140202
A6: TRƯỜNG ĐẠI HỌC HOÀ BÌNH | B6: HBU | L6: Giáo dục Đặc biệt | M6: 52140203
A7: TRƯỜNG ĐẠI HỌC HÙNG VƯƠNG | B7: THV | L7: Giáo dục Công dân | M7: 52140204
A8: TRƯỜNG ĐẠI HỌC TÂN TRÀO | B8: TQU | L8: Giáo dục Chính trị | M8: 52140205
A9: TRƯỜNG ĐẠI HỌC NÔNG LÂM BẮC GIANG | B9: DBG | L9: Giáo dục Thể chất | M9: 52140206
A10: TRƯỜNG ĐẠI HỌC TÂY BẮC | B10: TTB | L10: Huấn luyện thể thao* | M10: 52140207
A11: TRƯỜNG ĐẠI HỌC VIỆT BẮC | B11: DVB | L11: Giáo dục Quốc phòng - An ninh | M11: 52140208
A12: 2. ĐỒNG BẰNG SÔNG HỒNG | L12: Sư phạm Toán học | M12: 52140209
A13: ĐẠI HỌC QUỐC GIA HÀ NỘI | B13: ĐHQGHN | L13: Sư phạm Tin học | M13: 52140210
A14: HỌC VIỆN ÂM NHẠC QUỐC GIA VIỆT NAM | B14: NVH | L14: Sư phạm Vật lý | M14: 52140211
A15: HỌC VIỆN BÁO CHÍ VÀ TUYÊN TRUYỀN | B15: HBT | L15: Sư phạm Hoá học | M15: 52140212
A16: HỌC VIỆN CHÍNH SÁCH VÀ PHÁT TRIỂN | B16: HCP | L16: Sư phạm Sinh học | M16: 52140213
A17: HỌC VIỆN CHÍNH TRỊ - HÀNH CHÍNH KHU VỰC I | B17: HVCTHCK1 | L17: Sư phạm Kỹ thuật công nghiệp | M17: 52140214
A18: HỌC VIỆN CHÍNH TRỊ - HÀNH CHÍNH QUỐC GIA HỒ CHÍ MINH | B18: HCH | L18: Sư phạm Kỹ thuật nông nghiệp | M18: 52140215
A19: HỌC VIỆN CÔNG NGHỆ BƯU CHÍNH VIỄN THÔNG | B19: BVH | L19: Sư phạm Ngữ văn | M19: 52140217
A20: HỌC VIỆN HÀNH CHÍNH | B20: HCH | L20: Sư phạm Lịch sử | M20: 52140218
A21: HỌC VIỆN KHOA HỌC XÃ HỘI | B21: DHNI47 | L21: Sư phạm Địa lý | M21: 52140219
A22: HỌC VIỆN KỸ THUẬT MẬT MÃ | B22: KMA | L22: Sư phạm Âm nhạc | M22: 52140221
A23: HỌC VIỆN NGÂN HÀNG | B23: NHH | L23: Sư phạm Mỹ thuật | M23: 52140222
A24: HỌC VIỆN NGOẠI GIAO | B24: HQT | L24: Sư phạm Tiếng Bana | M24: 52140223
... A37: TRƯỜNG ĐẠI HỌC CÔNG NGHIỆP VIỆT - HUNG | B37: VHD | L37: Sư phạm Tiếng Nhật | M37: 52140236
A38: TRƯỜNG ĐẠI HỌC ĐẠI NAM | B38: DDN
A39: TRƯỜNG ĐẠI HỌC DÂN LẬP HẢI PHÒNG | B39: DHP
A40: TRƯỜNG ĐẠI HỌC DẦU KHÍ VIỆT NAM | B40: PVU
A41: TRƯỜNG ĐẠI HỌC ĐIỆN LỰC | B41: DDL
A42: TRƯỜNG ĐẠI HỌC ĐIỀU DƯỠNG NAM ĐỊNH | B42: YDD
A43: TRƯỜNG ĐẠI HỌC ĐÔNG ĐÔ | B43: DDD
A44: TRƯỜNG ĐẠI HỌC DƯỢC HÀ NỘI | B44: DKH
A45: TRƯỜNG ĐẠI HỌC FPT | B45: FPT | D45: a1b2c3d4e5f6g7
A46: TRƯỜNG ĐẠI HỌC GIAO THÔNG VẬN TẢI | B46: GHA
A47: TRƯỜNG ĐẠI HỌC HÀ HOA TIÊN | B47: DHH
A48: TRƯỜNG ĐẠI HỌC HÀ NỘI | B48: NHF
A49: TRƯỜNG ĐẠI HỌC HẢI PHÒNG | B49: THP
A50: TRƯỜNG ĐẠI HỌC HÀNG HẢI | B50: HHA
A51: TRƯỜNG ĐẠI HỌC HOA LƯ | B51: DNB
A52: TRƯỜNG ĐẠI HỌC KHOA HỌC VÀ CÔNG NGHỆ HÀ NỘI | B52: USTH
...
